BEGIN:VCALENDAR
VERSION:2.0
PRODID:-//le septième point - ECPv5.2.1//NONSGML v1.0//EN
CALSCALE:GREGORIAN
METHOD:PUBLISH
X-WR-CALNAME:le septième point
X-ORIGINAL-URL:https://www.leseptiemepoint.org
X-WR-CALDESC:évènements pour le septième point
BEGIN:VTIMEZONE
TZID:Europe/Paris
BEGIN:DAYLIGHT
TZOFFSETFROM:+0100
TZOFFSETTO:+0200
TZNAME:CEST
DTSTART:20180325T010000
END:DAYLIGHT
BEGIN:STANDARD
TZOFFSETFROM:+0200
TZOFFSETTO:+0100
TZNAME:CET
DTSTART:20181028T010000
END:STANDARD
END:VTIMEZONE
BEGIN:VEVENT
DTSTART;VALUE=DATE:20180121
DTEND;VALUE=DATE:20180130
DTSTAMP:20260425T045153
CREATED:20171124T095606Z
LAST-MODIFIED:20171124T131857Z
UID:1603-1516492800-1517270399@www.leseptiemepoint.org
SUMMARY:Les ados et la sexualité - Maripasoula - Guyane
DESCRIPTION:Un projet sur la sexualité pour les ados\, dans lequel nous entrons par la porte de la parole sur le plaisir\, le désir. \nSpectacles\, cercle de parole mixtes et non mixtes\, théâtre forum\, … Un projet artistique\, social et politique. \n 
URL:https://www.leseptiemepoint.org/event/ados-sexualite-maripasoula-guyane/
LOCATION:Collège de Maripasoula\, Maripasoula
CATEGORIES:résidence
ATTACH;FMTTYPE=image/jpeg:https://www.leseptiemepoint.org/wp-content/uploads/2017/11/coupla-équilibre.jpg
END:VEVENT
END:VCALENDAR