BEGIN:VCALENDAR
VERSION:2.0
PRODID:-//le septième point - ECPv5.2.1//NONSGML v1.0//EN
CALSCALE:GREGORIAN
METHOD:PUBLISH
X-WR-CALNAME:le septième point
X-ORIGINAL-URL:https://www.leseptiemepoint.org
X-WR-CALDESC:évènements pour le septième point
BEGIN:VTIMEZONE
TZID:Europe/Paris
BEGIN:DAYLIGHT
TZOFFSETFROM:+0100
TZOFFSETTO:+0200
TZNAME:CEST
DTSTART:20160327T010000
END:DAYLIGHT
BEGIN:STANDARD
TZOFFSETFROM:+0200
TZOFFSETTO:+0100
TZNAME:CET
DTSTART:20161030T010000
END:STANDARD
END:VTIMEZONE
BEGIN:VEVENT
DTSTART;TZID=Europe/Paris:20160312T203000
DTEND;TZID=Europe/Paris:20160312T213000
DTSTAMP:20260423T213835
CREATED:20160102T222925Z
LAST-MODIFIED:20160102T223422Z
UID:1065-1457814600-1457818200@www.leseptiemepoint.org
SUMMARY:Amazonie - La Motte Aubert (17) - Sortie de résidence
DESCRIPTION:
URL:https://www.leseptiemepoint.org/event/amazonie-la-motte-aubert-17/
LOCATION:Atelier de la Motte Aubert\, La Motte Aubert\, 17700 St Saturnin du bois\, \, 17700 St Saturnin du bois\, 17700 
CATEGORIES:spectacle
ATTACH;FMTTYPE=image/jpeg:https://www.leseptiemepoint.org/wp-content/uploads/2015/12/index.jpg
END:VEVENT
END:VCALENDAR