BEGIN:VCALENDAR
VERSION:2.0
PRODID:-//le septième point - ECPv5.2.1//NONSGML v1.0//EN
CALSCALE:GREGORIAN
METHOD:PUBLISH
X-WR-CALNAME:le septième point
X-ORIGINAL-URL:https://www.leseptiemepoint.org
X-WR-CALDESC:évènements pour le septième point
BEGIN:VTIMEZONE
TZID:Europe/Paris
BEGIN:DAYLIGHT
TZOFFSETFROM:+0100
TZOFFSETTO:+0200
TZNAME:CEST
DTSTART:20170326T010000
END:DAYLIGHT
BEGIN:STANDARD
TZOFFSETFROM:+0200
TZOFFSETTO:+0100
TZNAME:CET
DTSTART:20171029T010000
END:STANDARD
END:VTIMEZONE
BEGIN:VEVENT
DTSTART;TZID=Europe/Paris:20170930T153000
DTEND;TZID=Europe/Paris:20170930T170000
DTSTAMP:20260424T180844
CREATED:20170925T102319Z
LAST-MODIFIED:20170925T102409Z
UID:1557-1506785400-1506790800@www.leseptiemepoint.org
SUMMARY:Chemin Vivant - Maraussan (34) - Départ devant la Mairie
DESCRIPTION:
URL:https://www.leseptiemepoint.org/event/chemin-vivant-maraussan-34-2/
LOCATION:Maraussan\, France
CATEGORIES:spectacle
ATTACH;FMTTYPE=image/jpeg:https://www.leseptiemepoint.org/wp-content/uploads/2015/12/cv02.jpg
END:VEVENT
END:VCALENDAR