BEGIN:VCALENDAR
VERSION:2.0
PRODID:-//le septième point - ECPv5.2.1//NONSGML v1.0//EN
CALSCALE:GREGORIAN
METHOD:PUBLISH
X-WR-CALNAME:le septième point
X-ORIGINAL-URL:https://www.leseptiemepoint.org
X-WR-CALDESC:évènements pour le septième point
BEGIN:VTIMEZONE
TZID:Europe/Paris
BEGIN:DAYLIGHT
TZOFFSETFROM:+0100
TZOFFSETTO:+0200
TZNAME:CEST
DTSTART:20170326T010000
END:DAYLIGHT
BEGIN:STANDARD
TZOFFSETFROM:+0200
TZOFFSETTO:+0100
TZNAME:CET
DTSTART:20171029T010000
END:STANDARD
END:VTIMEZONE
BEGIN:VEVENT
DTSTART;TZID=Europe/Paris:20170603T180000
DTEND;TZID=Europe/Paris:20170603T193000
DTSTAMP:20260424T122716
CREATED:20170302T100730Z
LAST-MODIFIED:20170526T124909Z
UID:1256-1496512800-1496518200@www.leseptiemepoint.org
SUMMARY:Chemin Vivant - Maraussan (34) - Départ devant la mairie
DESCRIPTION:
URL:https://www.leseptiemepoint.org/event/chemin-vivant-maraussan-34/
LOCATION:Maraussan\, France
CATEGORIES:spectacle
ATTACH;FMTTYPE=image/jpeg:https://www.leseptiemepoint.org/wp-content/uploads/2015/12/cv02.jpg
END:VEVENT
END:VCALENDAR