BEGIN:VCALENDAR
VERSION:2.0
PRODID:-//le septième point - ECPv5.2.1//NONSGML v1.0//EN
CALSCALE:GREGORIAN
METHOD:PUBLISH
X-WR-CALNAME:le septième point
X-ORIGINAL-URL:https://www.leseptiemepoint.org
X-WR-CALDESC:évènements pour le septième point
BEGIN:VTIMEZONE
TZID:Europe/Paris
BEGIN:DAYLIGHT
TZOFFSETFROM:+0100
TZOFFSETTO:+0200
TZNAME:CEST
DTSTART:20160327T010000
END:DAYLIGHT
BEGIN:STANDARD
TZOFFSETFROM:+0200
TZOFFSETTO:+0100
TZNAME:CET
DTSTART:20161030T010000
END:STANDARD
END:VTIMEZONE
BEGIN:VEVENT
DTSTART;TZID=Europe/Paris:20161001T140000
DTEND;TZID=Europe/Paris:20161001T153000
DTSTAMP:20260424T003706
CREATED:20160713T180406Z
LAST-MODIFIED:20160925T074445Z
UID:1206-1475330400-1475335800@www.leseptiemepoint.org
SUMMARY:Chez Nous En Méditerranée - Rodilhan (30) - Festival Label Rue
DESCRIPTION:
URL:https://www.leseptiemepoint.org/event/chemin-vivant-rodilhan-30-festival-label-rue/
CATEGORIES:spectacle
ATTACH;FMTTYPE=image/jpeg:https://www.leseptiemepoint.org/wp-content/uploads/2016/03/DSC_6795-copie.jpg
END:VEVENT
END:VCALENDAR