BEGIN:VCALENDAR
VERSION:2.0
PRODID:-//le septième point - ECPv5.2.1//NONSGML v1.0//EN
CALSCALE:GREGORIAN
METHOD:PUBLISH
X-WR-CALNAME:le septième point
X-ORIGINAL-URL:https://www.leseptiemepoint.org
X-WR-CALDESC:évènements pour le septième point
BEGIN:VTIMEZONE
TZID:Europe/Paris
BEGIN:DAYLIGHT
TZOFFSETFROM:+0100
TZOFFSETTO:+0200
TZNAME:CEST
DTSTART:20170326T010000
END:DAYLIGHT
BEGIN:STANDARD
TZOFFSETFROM:+0200
TZOFFSETTO:+0100
TZNAME:CET
DTSTART:20171029T010000
END:STANDARD
END:VTIMEZONE
BEGIN:VEVENT
DTSTART;TZID=Europe/Paris:20171120T140000
DTEND;TZID=Europe/Paris:20171120T153000
DTSTAMP:20260424T225403
CREATED:20170817T092535Z
LAST-MODIFIED:20170817T092535Z
UID:1522-1511186400-1511191800@www.leseptiemepoint.org
SUMMARY:Chez Nous En Méditerranée - Maison d'arrêt de Nîmes - Festival Contes En Balade
DESCRIPTION:
URL:https://www.leseptiemepoint.org/event/chez-mediterranee-maison-darret-de-nimes-festival-contes-balade/
LOCATION:Maison d’arrêt de Nîmes\, 30000\, France
CATEGORIES:spectacle
ATTACH;FMTTYPE=image/jpeg:https://www.leseptiemepoint.org/wp-content/uploads/2016/03/DSC_6795-copie.jpg
END:VEVENT
END:VCALENDAR