BEGIN:VCALENDAR
VERSION:2.0
PRODID:-//le septième point - ECPv5.2.1//NONSGML v1.0//EN
CALSCALE:GREGORIAN
METHOD:PUBLISH
X-WR-CALNAME:le septième point
X-ORIGINAL-URL:https://www.leseptiemepoint.org
X-WR-CALDESC:évènements pour le septième point
BEGIN:VTIMEZONE
TZID:Europe/Paris
BEGIN:DAYLIGHT
TZOFFSETFROM:+0100
TZOFFSETTO:+0200
TZNAME:CEST
DTSTART:20180325T010000
END:DAYLIGHT
BEGIN:STANDARD
TZOFFSETFROM:+0200
TZOFFSETTO:+0100
TZNAME:CET
DTSTART:20181028T010000
END:STANDARD
END:VTIMEZONE
BEGIN:VEVENT
DTSTART;TZID=Europe/Paris:20180427T203000
DTEND;TZID=Europe/Paris:20180427T220000
DTSTAMP:20260425T130053
CREATED:20180301T142028Z
LAST-MODIFIED:20180413T093051Z
UID:1635-1524861000-1524866400@www.leseptiemepoint.org
SUMMARY:Chez Nous En Méditerranée - Maraussan (34) - Salle Esprit Gare
DESCRIPTION:
URL:https://www.leseptiemepoint.org/event/chez-mediterranee-maraussan-34/
LOCATION:Maraussan\, France
CATEGORIES:spectacle
ATTACH;FMTTYPE=image/jpeg:https://www.leseptiemepoint.org/wp-content/uploads/2017/05/19.jpg
END:VEVENT
END:VCALENDAR