BEGIN:VCALENDAR
VERSION:2.0
PRODID:-//le septième point - ECPv5.2.1//NONSGML v1.0//EN
CALSCALE:GREGORIAN
METHOD:PUBLISH
X-WR-CALNAME:le septième point
X-ORIGINAL-URL:https://www.leseptiemepoint.org
X-WR-CALDESC:évènements pour le septième point
BEGIN:VTIMEZONE
TZID:Europe/Paris
BEGIN:DAYLIGHT
TZOFFSETFROM:+0100
TZOFFSETTO:+0200
TZNAME:CEST
DTSTART:20180325T010000
END:DAYLIGHT
BEGIN:STANDARD
TZOFFSETFROM:+0200
TZOFFSETTO:+0100
TZNAME:CET
DTSTART:20181028T010000
END:STANDARD
END:VTIMEZONE
BEGIN:VEVENT
DTSTART;TZID=Europe/Paris:20180824T213000
DTEND;TZID=Europe/Paris:20180824T230000
DTSTAMP:20260426T012012
CREATED:20180802T141649Z
LAST-MODIFIED:20180802T141649Z
UID:1695-1535146200-1535151600@www.leseptiemepoint.org
SUMMARY:Chez Nous En Méditerranée - Le Spectacle
DESCRIPTION:
URL:https://www.leseptiemepoint.org/event/chez-mediterranee-spectacle/
LOCATION:Opidum D’Ensérune\, Nissan Les Ensérunes\, 34440
CATEGORIES:spectacle
ATTACH;FMTTYPE=image/jpeg:https://www.leseptiemepoint.org/wp-content/uploads/2017/05/19.jpg
END:VEVENT
END:VCALENDAR