BEGIN:VCALENDAR
VERSION:2.0
PRODID:-//le septième point - ECPv5.2.1//NONSGML v1.0//EN
CALSCALE:GREGORIAN
METHOD:PUBLISH
X-WR-CALNAME:le septième point
X-ORIGINAL-URL:https://www.leseptiemepoint.org
X-WR-CALDESC:évènements pour le septième point
BEGIN:VTIMEZONE
TZID:Europe/Paris
BEGIN:DAYLIGHT
TZOFFSETFROM:+0100
TZOFFSETTO:+0200
TZNAME:CEST
DTSTART:20150329T010000
END:DAYLIGHT
BEGIN:STANDARD
TZOFFSETFROM:+0200
TZOFFSETTO:+0100
TZNAME:CET
DTSTART:20151025T010000
END:STANDARD
END:VTIMEZONE
BEGIN:VEVENT
DTSTART;VALUE=DATE:20151221
DTEND;VALUE=DATE:20151224
DTSTAMP:20260424T050738
CREATED:20151207T085619Z
LAST-MODIFIED:20151219T135726Z
UID:733-1450656000-1450915199@www.leseptiemepoint.org
SUMMARY:Chez nous en Méditerranée
DESCRIPTION:Une résidence de recherche sur l’univers du conteur à partir de contes sur la Méditerranée
URL:https://www.leseptiemepoint.org/event/chez-nous-en-mediterranee-2-3/
LOCATION:Espace Jeunesse Bellegarde\, 37 Bis\, Boulevard Aristide Briand\, Aix en Provence\, 13100\, France
CATEGORIES:résidence
ATTACH;FMTTYPE=image/jpeg:https://www.leseptiemepoint.org/wp-content/uploads/2015/12/798040385-aigrette-garzette-en-lair-ciel-bleu-bassin-de-la-mediterranee.jpg
END:VEVENT
END:VCALENDAR