BEGIN:VCALENDAR
VERSION:2.0
PRODID:-//le septième point - ECPv5.2.1//NONSGML v1.0//EN
CALSCALE:GREGORIAN
METHOD:PUBLISH
X-WR-CALNAME:le septième point
X-ORIGINAL-URL:https://www.leseptiemepoint.org
X-WR-CALDESC:évènements pour le septième point
BEGIN:VTIMEZONE
TZID:Europe/Paris
BEGIN:DAYLIGHT
TZOFFSETFROM:+0100
TZOFFSETTO:+0200
TZNAME:CEST
DTSTART:20160327T010000
END:DAYLIGHT
BEGIN:STANDARD
TZOFFSETFROM:+0200
TZOFFSETTO:+0100
TZNAME:CET
DTSTART:20161030T010000
END:STANDARD
END:VTIMEZONE
BEGIN:VEVENT
DTSTART;TZID=Europe/Paris:20160205T183000
DTEND;TZID=Europe/Paris:20160205T193000
DTSTAMP:20260424T003346
CREATED:20151213T092842Z
LAST-MODIFIED:20160120T150734Z
UID:828-1454697000-1454700600@www.leseptiemepoint.org
SUMMARY:Chez nous en Méditerranée - Marseille (13) - Sortie de résidence
DESCRIPTION:La première du spectacle\, accueillie par « la baleine qui dit Vagues » à Marseille \n 
URL:https://www.leseptiemepoint.org/event/chez-nous-en-mediterranee-2/
LOCATION:la Baleine qui dit « Vagues »
CATEGORIES:spectacle
ATTACH;FMTTYPE=image/jpeg:https://www.leseptiemepoint.org/wp-content/uploads/2015/12/cheznous01.jpg
END:VEVENT
END:VCALENDAR