BEGIN:VCALENDAR
VERSION:2.0
PRODID:-//le septième point - ECPv5.2.1//NONSGML v1.0//EN
CALSCALE:GREGORIAN
METHOD:PUBLISH
X-WR-CALNAME:le septième point
X-ORIGINAL-URL:https://www.leseptiemepoint.org
X-WR-CALDESC:évènements pour le septième point
BEGIN:VTIMEZONE
TZID:Europe/Paris
BEGIN:DAYLIGHT
TZOFFSETFROM:+0100
TZOFFSETTO:+0200
TZNAME:CEST
DTSTART:20160327T010000
END:DAYLIGHT
BEGIN:STANDARD
TZOFFSETFROM:+0200
TZOFFSETTO:+0100
TZNAME:CET
DTSTART:20161030T010000
END:STANDARD
END:VTIMEZONE
BEGIN:VEVENT
DTSTART;TZID=Europe/Paris:20160924T150000
DTEND;TZID=Europe/Paris:20160924T163000
DTSTAMP:20260423T230758
CREATED:20160321T153524Z
LAST-MODIFIED:20160321T153716Z
UID:1129-1474729200-1474734600@www.leseptiemepoint.org
SUMMARY:Chemin Vivant - Maraussan (34)
DESCRIPTION:une représentation à Maraussan
URL:https://www.leseptiemepoint.org/event/chez-nous-en-mediterranee-4/
LOCATION:Maraussan\, France
CATEGORIES:spectacle
ATTACH;FMTTYPE=image/jpeg:https://www.leseptiemepoint.org/wp-content/uploads/2015/12/cv02.jpg
END:VEVENT
END:VCALENDAR