BEGIN:VCALENDAR
VERSION:2.0
PRODID:-//le septième point - ECPv5.2.1//NONSGML v1.0//EN
CALSCALE:GREGORIAN
METHOD:PUBLISH
X-WR-CALNAME:le septième point
X-ORIGINAL-URL:https://www.leseptiemepoint.org
X-WR-CALDESC:évènements pour le septième point
BEGIN:VTIMEZONE
TZID:Europe/Paris
BEGIN:DAYLIGHT
TZOFFSETFROM:+0100
TZOFFSETTO:+0200
TZNAME:CEST
DTSTART:20170326T010000
END:DAYLIGHT
BEGIN:STANDARD
TZOFFSETFROM:+0200
TZOFFSETTO:+0100
TZNAME:CET
DTSTART:20171029T010000
END:STANDARD
END:VTIMEZONE
BEGIN:VEVENT
DTSTART;TZID=Europe/Paris:20170420T190000
DTEND;TZID=Europe/Paris:20170420T201000
DTSTAMP:20260424T074949
CREATED:20170302T095833Z
LAST-MODIFIED:20170302T100122Z
UID:1251-1492714800-1492719000@www.leseptiemepoint.org
SUMMARY:Chez Nous En Méditerranée - Théâtre Gérard Philippe - Montpellier
DESCRIPTION:
URL:https://www.leseptiemepoint.org/event/chez-nous-en-mediterranee-5/
LOCATION:Théâtre Gérard Philippe\, 7 rue Pages\, Montpellier\, France
CATEGORIES:spectacle
ATTACH;FMTTYPE=image/jpeg:https://www.leseptiemepoint.org/wp-content/uploads/2016/03/DSC_6795-copie.jpg
END:VEVENT
END:VCALENDAR