BEGIN:VCALENDAR
VERSION:2.0
PRODID:-//le septième point - ECPv5.2.1//NONSGML v1.0//EN
CALSCALE:GREGORIAN
METHOD:PUBLISH
X-WR-CALNAME:le septième point
X-ORIGINAL-URL:https://www.leseptiemepoint.org
X-WR-CALDESC:évènements pour le septième point
BEGIN:VTIMEZONE
TZID:Europe/Paris
BEGIN:DAYLIGHT
TZOFFSETFROM:+0100
TZOFFSETTO:+0200
TZNAME:CEST
DTSTART:20180325T010000
END:DAYLIGHT
BEGIN:STANDARD
TZOFFSETFROM:+0200
TZOFFSETTO:+0100
TZNAME:CET
DTSTART:20181028T010000
END:STANDARD
END:VTIMEZONE
BEGIN:VEVENT
DTSTART;TZID=Europe/Paris:20180819T160000
DTEND;TZID=Europe/Paris:20180819T170000
DTSTAMP:20260425T221114
CREATED:20180802T140633Z
LAST-MODIFIED:20180802T141822Z
UID:1688-1534694400-1534698000@www.leseptiemepoint.org
SUMMARY:Chez Nous En Méditerranée - En Solo
DESCRIPTION:
URL:https://www.leseptiemepoint.org/event/chez-nous-en-mediterranee-7/
LOCATION:festival parole de conteurs\, Vassivière
CATEGORIES:spectacle
ATTACH;FMTTYPE=image/jpeg:https://www.leseptiemepoint.org/wp-content/uploads/2017/05/10.jpg
END:VEVENT
END:VCALENDAR