BEGIN:VCALENDAR
VERSION:2.0
PRODID:-//le septième point - ECPv5.2.1//NONSGML v1.0//EN
CALSCALE:GREGORIAN
METHOD:PUBLISH
X-WR-CALNAME:le septième point
X-ORIGINAL-URL:https://www.leseptiemepoint.org
X-WR-CALDESC:évènements pour le septième point
BEGIN:VTIMEZONE
TZID:Europe/Paris
BEGIN:DAYLIGHT
TZOFFSETFROM:+0100
TZOFFSETTO:+0200
TZNAME:CEST
DTSTART:20160327T010000
END:DAYLIGHT
BEGIN:STANDARD
TZOFFSETFROM:+0200
TZOFFSETTO:+0100
TZNAME:CET
DTSTART:20161030T010000
END:STANDARD
END:VTIMEZONE
BEGIN:VEVENT
DTSTART;TZID=Europe/Paris:20160917T170000
DTEND;TZID=Europe/Paris:20160917T183000
DTSTAMP:20260423T214143
CREATED:20160713T180047Z
LAST-MODIFIED:20160713T180115Z
UID:1203-1474131600-1474137000@www.leseptiemepoint.org
SUMMARY:Chez Nous en Méditerranée - Montarnaud (34) - Journées du Patrimoine
DESCRIPTION:
URL:https://www.leseptiemepoint.org/event/chez-nous-en-mediterranee-montarnaud-34-journees-du-patrimoine/
LOCATION:chateau\, montarnaud
CATEGORIES:spectacle
ATTACH;FMTTYPE=image/jpeg:https://www.leseptiemepoint.org/wp-content/uploads/2016/03/DSC_6795-copie.jpg
END:VEVENT
END:VCALENDAR