BEGIN:VCALENDAR
VERSION:2.0
PRODID:-//le septième point - ECPv5.2.1//NONSGML v1.0//EN
CALSCALE:GREGORIAN
METHOD:PUBLISH
X-WR-CALNAME:le septième point
X-ORIGINAL-URL:https://www.leseptiemepoint.org
X-WR-CALDESC:évènements pour le septième point
BEGIN:VTIMEZONE
TZID:Europe/Paris
BEGIN:DAYLIGHT
TZOFFSETFROM:+0100
TZOFFSETTO:+0200
TZNAME:CEST
DTSTART:20160327T010000
END:DAYLIGHT
BEGIN:STANDARD
TZOFFSETFROM:+0200
TZOFFSETTO:+0100
TZNAME:CET
DTSTART:20161030T010000
END:STANDARD
END:VTIMEZONE
BEGIN:VEVENT
DTSTART;TZID=Europe/Paris:20160503T200000
DTEND;TZID=Europe/Paris:20160503T211500
DTSTAMP:20260423T184852
CREATED:20160321T145858Z
LAST-MODIFIED:20160321T152633Z
UID:1118-1462305600-1462310100@www.leseptiemepoint.org
SUMMARY:Chez nous en Méditerranée - Montpellier - Centre social CAF
DESCRIPTION:une représentation au centre social CAF (L’ile aux parents)\, jouée à prix libre et conscient \n 
URL:https://www.leseptiemepoint.org/event/chez-nous-en-mediterranee-montpellier-2/
LOCATION:Centre social CAF – L’ile aux parents\, 410\, Avenue de Barcelone\, Montpellier\, France
CATEGORIES:spectacle
ATTACH;FMTTYPE=image/jpeg:https://www.leseptiemepoint.org/wp-content/uploads/2016/03/DSC_6795-copie.jpg
ORGANIZER;CN="Le%20Septi%C3%A8me%20Point":MAILTO:contact@leseptiemepoint.org
END:VEVENT
END:VCALENDAR