BEGIN:VCALENDAR
VERSION:2.0
PRODID:-//le septième point - ECPv5.2.1//NONSGML v1.0//EN
CALSCALE:GREGORIAN
METHOD:PUBLISH
X-WR-CALNAME:le septième point
X-ORIGINAL-URL:https://www.leseptiemepoint.org
X-WR-CALDESC:évènements pour le septième point
BEGIN:VTIMEZONE
TZID:Europe/Paris
BEGIN:DAYLIGHT
TZOFFSETFROM:+0100
TZOFFSETTO:+0200
TZNAME:CEST
DTSTART:20170326T010000
END:DAYLIGHT
BEGIN:STANDARD
TZOFFSETFROM:+0200
TZOFFSETTO:+0100
TZNAME:CET
DTSTART:20171029T010000
END:STANDARD
END:VTIMEZONE
BEGIN:VEVENT
DTSTART;TZID=Europe/Paris:20170514T113000
DTEND;TZID=Europe/Paris:20170514T123000
DTSTAMP:20260424T105952
CREATED:20170505T075635Z
LAST-MODIFIED:20170505T084626Z
UID:1391-1494761400-1494765000@www.leseptiemepoint.org
SUMMARY:Et Pourtant On S'Aimait - Saint Julien de la Nef (34) - Rencontres du féminin et du masculin sacrés
DESCRIPTION:
URL:https://www.leseptiemepoint.org/event/et-pourtant-on-saimait-rencontres-du-feminin-et-du-masculin-sacres-saint-julien-de-la-nef-34/
LOCATION:saint julien de la nef
CATEGORIES:spectacle
ATTACH;FMTTYPE=image/jpeg:https://www.leseptiemepoint.org/wp-content/uploads/2017/04/photo-1-EPOSA.jpg
END:VEVENT
END:VCALENDAR