BEGIN:VCALENDAR
VERSION:2.0
PRODID:-//le septième point - ECPv5.2.1//NONSGML v1.0//EN
CALSCALE:GREGORIAN
METHOD:PUBLISH
X-WR-CALNAME:le septième point
X-ORIGINAL-URL:https://www.leseptiemepoint.org
X-WR-CALDESC:évènements pour le septième point
BEGIN:VTIMEZONE
TZID:Europe/Paris
BEGIN:DAYLIGHT
TZOFFSETFROM:+0100
TZOFFSETTO:+0200
TZNAME:CEST
DTSTART:20170326T010000
END:DAYLIGHT
BEGIN:STANDARD
TZOFFSETFROM:+0200
TZOFFSETTO:+0100
TZNAME:CET
DTSTART:20171029T010000
END:STANDARD
END:VTIMEZONE
BEGIN:VEVENT
DTSTART;TZID=Europe/Paris:20170606T183000
DTEND;TZID=Europe/Paris:20170606T200000
DTSTAMP:20260424T135135
CREATED:20170526T124614Z
LAST-MODIFIED:20170526T124707Z
UID:1464-1496773800-1496779200@www.leseptiemepoint.org
SUMMARY:L'Homme Amazone - Théâtre de Clermont l'Hérault (34) - Sortie de résidence - Sur réservation
DESCRIPTION:Sortie de résidence au théâtre de clermont l’hérault – Sur réservation \n 
URL:https://www.leseptiemepoint.org/event/lhomme-amazone-sortie-de-residence-reservation/
CATEGORIES:spectacle
ORGANIZER;CN="Le%20Septi%C3%A8me%20Point":MAILTO:contact@leseptiemepoint.org
END:VEVENT
END:VCALENDAR