BEGIN:VCALENDAR
VERSION:2.0
PRODID:-//le septième point - ECPv5.2.1//NONSGML v1.0//EN
CALSCALE:GREGORIAN
METHOD:PUBLISH
X-WR-CALNAME:le septième point
X-ORIGINAL-URL:https://www.leseptiemepoint.org
X-WR-CALDESC:évènements pour le septième point
BEGIN:VTIMEZONE
TZID:Europe/Paris
BEGIN:DAYLIGHT
TZOFFSETFROM:+0100
TZOFFSETTO:+0200
TZNAME:CEST
DTSTART:20170326T010000
END:DAYLIGHT
BEGIN:STANDARD
TZOFFSETFROM:+0200
TZOFFSETTO:+0100
TZNAME:CET
DTSTART:20171029T010000
END:STANDARD
END:VTIMEZONE
BEGIN:VEVENT
DTSTART;TZID=Europe/Paris:20170628T190000
DTEND;TZID=Europe/Paris:20170628T190000
DTSTAMP:20260424T151119
CREATED:20160519T104356Z
LAST-MODIFIED:20170615T095907Z
UID:1172-1498676400-1498676400@www.leseptiemepoint.org
SUMMARY:50 Portraits d'Hommes - Le Thou (17) - Vernissage de l'expo
DESCRIPTION:Dans le cadre de sa « Fête de l’été »\, le CAC de Surgères propose de réaliser une exposition « 50 portraits d’Hommes » \nDans ce cadre\, nous proposerons des cercles de paroles d’hommes\, des ateliers sur la rencontre de féminin et du masculin\, des portraits individuels \nNous créerons dans les rues du village de Le Thou\, une exposition de 50 portraits d’hommes en textes et photo\, et à l’occasion de son inauguration\, le mercredi 28 juin\, à 19h\, Chez Christain Doublet\, au Thou (17)\, nous jouerons le spectacle « L’Homme Amazone »\, à 21h \n  \n  \n 
URL:https://www.leseptiemepoint.org/event/projet-de-territoire-forcalquier-04/
LOCATION:Chez Christian Doublet\, Le Thou\, 17\, France Métropolitaine
CATEGORIES:résidence
ATTACH;FMTTYPE=image/jpeg:https://www.leseptiemepoint.org/wp-content/uploads/2017/05/portrait-michaël-cadot-light.jpg
END:VEVENT
END:VCALENDAR