BEGIN:VCALENDAR
VERSION:2.0
PRODID:-//le septième point - ECPv5.2.1//NONSGML v1.0//EN
CALSCALE:GREGORIAN
METHOD:PUBLISH
X-WR-CALNAME:le septième point
X-ORIGINAL-URL:https://www.leseptiemepoint.org
X-WR-CALDESC:évènements pour le septième point
BEGIN:VTIMEZONE
TZID:Europe/Paris
BEGIN:DAYLIGHT
TZOFFSETFROM:+0100
TZOFFSETTO:+0200
TZNAME:CEST
DTSTART:20180325T010000
END:DAYLIGHT
BEGIN:STANDARD
TZOFFSETFROM:+0200
TZOFFSETTO:+0100
TZNAME:CET
DTSTART:20181028T010000
END:STANDARD
END:VTIMEZONE
BEGIN:VEVENT
DTSTART;VALUE=DATE:20180531
DTEND;VALUE=DATE:20180604
DTSTAMP:20260425T190734
CREATED:20180413T095344Z
LAST-MODIFIED:20180413T095344Z
UID:1682-1527724800-1528070399@www.leseptiemepoint.org
SUMMARY:Rencontres du féminin sacré - Saint Julien de la Nef (34) - Camping Isis
DESCRIPTION:
URL:https://www.leseptiemepoint.org/event/rencontres-feminin-sacre-saint-julien-de-nef-34-camping-isis/
LOCATION:camping Isis
CATEGORIES:résidence
ATTACH;FMTTYPE=image/jpeg:https://www.leseptiemepoint.org/wp-content/uploads/2018/04/e18596_e4f58f6e1ac842c4b09e0ab99306b53dmv2.jpg
END:VEVENT
END:VCALENDAR