BEGIN:VCALENDAR
VERSION:2.0
PRODID:-//le septième point - ECPv5.2.1//NONSGML v1.0//EN
CALSCALE:GREGORIAN
METHOD:PUBLISH
X-WR-CALNAME:le septième point
X-ORIGINAL-URL:https://www.leseptiemepoint.org
X-WR-CALDESC:évènements pour le septième point
BEGIN:VTIMEZONE
TZID:Europe/Paris
BEGIN:DAYLIGHT
TZOFFSETFROM:+0100
TZOFFSETTO:+0200
TZNAME:CEST
DTSTART:20170326T010000
END:DAYLIGHT
BEGIN:STANDARD
TZOFFSETFROM:+0200
TZOFFSETTO:+0100
TZNAME:CET
DTSTART:20171029T010000
END:STANDARD
END:VTIMEZONE
BEGIN:VEVENT
DTSTART;VALUE=DATE:20170325
DTEND;VALUE=DATE:20170403
DTSTAMP:20260424T062218
CREATED:20161203T172345Z
LAST-MODIFIED:20161203T172636Z
UID:1229-1490400000-1491177599@www.leseptiemepoint.org
SUMMARY:Résidence L'Homme Amazone - La Machine à Coude - Voulême (86)
DESCRIPTION:les 25 et 26 mars – stage sur la rencontre du féminin et du masculin \nRecherche et rencontre du féminin et du masculin en soi\, Écriture\, Théâtre forum\, \nLe 1 er Avril : Sortie de résidence publique et soirée \n 
URL:https://www.leseptiemepoint.org/event/residence-lhomme-amazone-2/
CATEGORIES:résidence
ATTACH;FMTTYPE=image/jpeg:https://www.leseptiemepoint.org/wp-content/uploads/2016/06/HA10-e1464793309159.jpg
ORGANIZER;CN="La%20Machin%20%C3%A0%20Coude":MAILTO:lamachineacoude@gmail.com
END:VEVENT
END:VCALENDAR