BEGIN:VCALENDAR
VERSION:2.0
PRODID:-//le septième point - ECPv5.2.1//NONSGML v1.0//EN
CALSCALE:GREGORIAN
METHOD:PUBLISH
X-WR-CALNAME:le septième point
X-ORIGINAL-URL:https://www.leseptiemepoint.org
X-WR-CALDESC:évènements pour le septième point
BEGIN:VTIMEZONE
TZID:Europe/Paris
BEGIN:DAYLIGHT
TZOFFSETFROM:+0100
TZOFFSETTO:+0200
TZNAME:CEST
DTSTART:20170326T010000
END:DAYLIGHT
BEGIN:STANDARD
TZOFFSETFROM:+0200
TZOFFSETTO:+0100
TZNAME:CET
DTSTART:20171029T010000
END:STANDARD
END:VTIMEZONE
BEGIN:VEVENT
DTSTART;VALUE=DATE:20170201
DTEND;VALUE=DATE:20170211
DTSTAMP:20260424T033658
CREATED:20161203T165232Z
LAST-MODIFIED:20161203T172821Z
UID:1224-1485907200-1486771199@www.leseptiemepoint.org
SUMMARY:Résidence L'Homme Amazone - Château de Monthelon - Montréal (89)
DESCRIPTION:Résidence de recherche et création \nLe jeudi 2 février\, de 19h à 22h – Cercle d’Hommes – Ouvert à tous les hommes. \nLe samedi 4 février\, de 14h à 19h – Labo sur le masculin – Ouvert à tout artiste homme ou femme \nLe vendredi 10 février\, à 19h – Sortie de résidence plus soirée \n 
URL:https://www.leseptiemepoint.org/event/residence-lhomme-amazone/
LOCATION:Château de Monthelon\, route de Montbard\, Montréal\, France
CATEGORIES:résidence
ATTACH;FMTTYPE=image/jpeg:https://www.leseptiemepoint.org/wp-content/uploads/2016/06/HA10-e1464793309159.jpg
ORGANIZER;CN="Le%20Septi%C3%A8me%20Point":MAILTO:contact@leseptiemepoint.org
END:VEVENT
END:VCALENDAR