BEGIN:VCALENDAR
VERSION:2.0
PRODID:-//le septième point - ECPv5.2.1//NONSGML v1.0//EN
CALSCALE:GREGORIAN
METHOD:PUBLISH
X-WR-CALNAME:le septième point
X-ORIGINAL-URL:https://www.leseptiemepoint.org
X-WR-CALDESC:évènements pour le septième point
BEGIN:VTIMEZONE
TZID:Europe/Paris
BEGIN:DAYLIGHT
TZOFFSETFROM:+0100
TZOFFSETTO:+0200
TZNAME:CEST
DTSTART:20170326T010000
END:DAYLIGHT
BEGIN:STANDARD
TZOFFSETFROM:+0200
TZOFFSETTO:+0100
TZNAME:CET
DTSTART:20171029T010000
END:STANDARD
END:VTIMEZONE
BEGIN:VEVENT
DTSTART;TZID=Europe/Paris:20171205T090000
DTEND;TZID=Europe/Paris:20171205T170000
DTSTAMP:20260425T015819
CREATED:20171124T100721Z
LAST-MODIFIED:20171124T100721Z
UID:1611-1512464400-1512493200@www.leseptiemepoint.org
SUMMARY:Workshop - Théâtre forum et sexualité
DESCRIPTION:Journée d’apprentissage et de pratique du théâtre forum sur le thème de la sexualité \nCe workshop vous intéresse si\n> vous voulez apprendre le travail de comédien de TF\n> vous développez des projets sur la sexualité\, le harcèlement\, le rapport hommes / femmes\n> les thèmes de la sexualité\, du rapport hommes / femmes vous intéresse \nProgramme\nMatin\nTraining de comédien. Corps / Voix / présence.\nActing : La pratique du théâtre forum pour les comédiens\n> incarner un personnage\n> faire évoluer son personnage\nJeu du théâtre forum \nAprès midi\nCercle de parole : partager nos histoires personnelles sur la sexualité\nThéâtre forum spontané\nÉcriture et mise en scène \nHoraires : 9h – 17h\nRepas partagé le midi\nLieu : espace mycélium – Montarnaud\nParticipation aux frais : 40 euros\nSur inscription : contact@leseptiemepoint.org ou par MP \nJournée mise en œuvre dans le cadre du développement d’un projet d’accompagnement des adolescents sur le thème de la sexualité.
URL:https://www.leseptiemepoint.org/event/workshop-theatre-forum-sexualite/
LOCATION:Espace Mycelium\, Montarnaud
CATEGORIES:résidence
ATTACH;FMTTYPE=image/jpeg:https://www.leseptiemepoint.org/wp-content/uploads/2017/11/10195003.jpg
END:VEVENT
END:VCALENDAR